BEGIN:VCALENDAR
VERSION:2.0
PRODID:-//Library Market//iCal Export//EN
BEGIN:VEVENT
SUMMARY:Pet Portraits
UID:9991
DTSTAMP:20260421T151800Z
DTSTART:20260615T150000Z
DTEND:20260615T163000Z
LOCATION:Midlothian Public Library, 14701 S. Kenton Ave, Midlothian, IL 60
 445, United States
ROOM: Studio 147
DESCRIPTION:Made with Watercolor and acrylic pens  PLEASE bring a copy
  of a picture of your pet. If you do not have access to a printer, come in
  15 minutes early and we can help you print out a picture from your phone 
 or device. Registration suggested; limit 12. 
URL:https://midlothian.librarycalendar.com/event/pet-portraits-9991
END:VEVENT
END:VCALENDAR
