BEGIN:VCALENDAR
VERSION:2.0
PRODID:-//Library Market//iCal Export//EN
BEGIN:VEVENT
SUMMARY:Desk Trinkets
UID:9981
DTSTAMP:20260420T104000Z
DTSTART:20260819T223000Z
DTEND:20260820T000000Z
LOCATION:Midlothian Public Library, 14701 S. Kenton Ave, Midlothian, IL 60
 445, United States
ROOM: Teen Space
DESCRIPTION:With back to school season here, create cute trinkets for your
  desk or space. Drop by anytime during this program to make coasters, pict
 ure frames, and decorated candles. Please register.
URL:https://midlothian.librarycalendar.com/event/desk-trinkets-9981
END:VEVENT
END:VCALENDAR
