BEGIN:VCALENDAR
VERSION:2.0
PRODID:-//Library Market//iCal Export//EN
BEGIN:VEVENT
SUMMARY:Tic Tac Toe Board
UID:9980
DTSTAMP:20260421T095300Z
DTSTART:20260708T223000Z
DTEND:20260709T000000Z
LOCATION:Midlothian Public Library, 14701 S. Kenton Ave, Midlothian, IL 60
 445, United States
ROOM: Teen Space
DESCRIPTION:Create your own Tic Tac Toe game using a variety of craft mate
 rials, including air dry clay and Perler beads. Please register.
URL:https://midlothian.librarycalendar.com/event/tic-tac-toe-board-9980
END:VEVENT
END:VCALENDAR
