BEGIN:VCALENDAR
VERSION:2.0
PRODID:-//Library Market//iCal Export//EN
BEGIN:VEVENT
SUMMARY:Sonic Crafts for Teens
UID:9978
DTSTAMP:20260423T071500Z
DTSTART:20260623T223000Z
DTEND:20260624T000000Z
LOCATION:Midlothian Public Library, 14701 S. Kenton Ave, Midlothian, IL 60
 445, United States
ROOM: Sonic Crafts for Teens
DESCRIPTION:Celebrate the anniversary of Sonic the Hedgehog by particip
 ating in some crafts and playing Sonic Racing CrossWorlds on the Nintend
 o Switch. Registration required.
URL:https://midlothian.librarycalendar.com/event/sonic-crafts-teens-9978
END:VEVENT
END:VCALENDAR
