BEGIN:VCALENDAR
VERSION:2.0
PRODID:-//Library Market//iCal Export//EN
BEGIN:VEVENT
SUMMARY:Teen Universal Yums
UID:9977
DTSTAMP:20260420T220000Z
DTSTART:20260818T223000Z
DTEND:20260818T233000Z
LOCATION:Midlothian Public Library, 14701 S. Kenton Ave, Midlothian, IL 60
 445, United States
ROOM: Teen Universal Yums
DESCRIPTION:
URL:https://midlothian.librarycalendar.com/event/teen-universal-yums-9977
END:VEVENT
END:VCALENDAR
