BEGIN:VCALENDAR
VERSION:2.0
PRODID:-//Library Market//iCal Export//EN
BEGIN:VEVENT
SUMMARY:Teen Universal Yums
UID:9975
DTSTAMP:20260421T095300Z
DTSTART:20260616T223000Z
DTEND:20260616T233000Z
LOCATION:Midlothian Public Library, 14701 S. Kenton Ave, Midlothian, IL 60
 445, United States
ROOM: Teen Universal Yums
DESCRIPTION:
URL:https://midlothian.librarycalendar.com/event/teen-universal-yums-9975
END:VEVENT
END:VCALENDAR
