BEGIN:VCALENDAR
VERSION:2.0
PRODID:-//Library Market//iCal Export//EN
BEGIN:VEVENT
SUMMARY:Paint Your Own Tote
UID:9971
DTSTAMP:20260421T135500Z
DTSTART:20260812T223000Z
DTEND:20260812T233000Z
LOCATION:Midlothian Public Library, 14701 S. Kenton Ave, Midlothian, IL 60
 445, United States
ROOM: Teen Space
DESCRIPTION:Join us in the Teen space to paint your own tote, perfect for 
 summer shopping, trips to the Farmer’s Market, camping, and back to scho
 ol! Each bag also comes with a DIY craft. August’s theme is Back to Sch
 ool with book bedazzling, book cover keychains, and a DIY anxiety bookshel
 f fidget toy.
URL:https://midlothian.librarycalendar.com/event/paint-your-own-tote-9971
END:VEVENT
END:VCALENDAR
