BEGIN:VCALENDAR
VERSION:2.0
PRODID:-//Library Market//iCal Export//EN
BEGIN:VEVENT
SUMMARY:Paint Your Own Tote
UID:9970
DTSTAMP:20260420T104000Z
DTSTART:20260722T223000Z
DTEND:20260722T233000Z
LOCATION:Midlothian Public Library, 14701 S. Kenton Ave, Midlothian, IL 60
 445, United States
ROOM: Teen Space
DESCRIPTION:Join us in the Teen space to paint your own tote, perfect for 
 summer shopping, trips to the Farmer’s Market, camping, and back to scho
 ol! Each bag also comes with a DIY craft. July’s theme is Farmer&#039;s
  Market with DIY French toast or waffle Tic Tac Toe board and recipes.
URL:https://midlothian.librarycalendar.com/event/paint-your-own-tote-9970
END:VEVENT
END:VCALENDAR
