BEGIN:VCALENDAR
VERSION:2.0
PRODID:-//Library Market//iCal Export//EN
BEGIN:VEVENT
SUMMARY:Paint Your Own Tote
UID:9969
DTSTAMP:20260421T095300Z
DTSTART:20260630T223000Z
DTEND:20260630T233000Z
LOCATION:Midlothian Public Library, 14701 S. Kenton Ave, Midlothian, IL 60
 445, United States
ROOM: Teen Space
DESCRIPTION:Join us in the Teen space to paint your own tote, perfect for 
 summer shopping, trips to the Farmer’s Market, camping, and back to scho
 ol! Each bag also comes with a DIY craft. June’s theme is Sweet Summer 
 Treats with DIY air-dry clay magnets.
URL:https://midlothian.librarycalendar.com/event/paint-your-own-tote-9969
END:VEVENT
END:VCALENDAR
