BEGIN:VCALENDAR
VERSION:2.0
PRODID:-//Library Market//iCal Export//EN
BEGIN:VEVENT
SUMMARY:Bon Voyage Crafts
UID:9966
DTSTAMP:20260421T135500Z
DTSTART:20260826T223000Z
DTEND:20260826T233000Z
LOCATION:Midlothian Public Library, 14701 S. Kenton Ave, Midlothian, IL 60
 445, United States
ROOM: Teen Space
DESCRIPTION:Caught the travel bug? Join us each month this summer for craf
 ts and snacks from around the world. Learn about the country, make a simpl
 e craft, and try a new snack! August’s country is Japan. We will be maki
 ng Kokeshi dolls. Please register.
URL:https://midlothian.librarycalendar.com/event/bon-voyage-crafts-9966
END:VEVENT
END:VCALENDAR
