BEGIN:VCALENDAR
VERSION:2.0
PRODID:-//Library Market//iCal Export//EN
BEGIN:VEVENT
SUMMARY:Bon Voyage Crafts
UID:9965
DTSTAMP:20260421T044600Z
DTSTART:20260729T223000Z
DTEND:20260729T233000Z
LOCATION:Midlothian Public Library, 14701 S. Kenton Ave, Midlothian, IL 60
 445, United States
ROOM: Teen Space
DESCRIPTION:Caught the travel bug? Join us each month this summer for craf
 ts and snacks from around the world. Learn about the country, make a simpl
 e craft, and try a new snack! July&#039;s country is Italy. We will be mak
 ing stained glass suncatchers using contact paper and tissue paper. Please
  register.
URL:https://midlothian.librarycalendar.com/event/bon-voyage-crafts-9965
END:VEVENT
END:VCALENDAR
