BEGIN:VCALENDAR
VERSION:2.0
PRODID:-//Library Market//iCal Export//EN
BEGIN:VEVENT
SUMMARY:Bon Voyage Crafts
UID:9964
DTSTAMP:20260420T104000Z
DTSTART:20260624T223000Z
DTEND:20260624T233000Z
LOCATION:Midlothian Public Library, 14701 S. Kenton Ave, Midlothian, IL 60
 445, United States
ROOM: Teen Space
DESCRIPTION:Caught the travel bug? Join us each month this summer for craf
 ts and snacks from around the world. Learn about the country, make a simpl
 e craft, and try a new snack! June’s country is Poland. We will be makin
 g Polish nesting dolls created with plastic Easter eggs. Please register.
URL:https://midlothian.librarycalendar.com/event/bon-voyage-crafts-9964
END:VEVENT
END:VCALENDAR
