BEGIN:VCALENDAR
VERSION:2.0
PRODID:-//Library Market//iCal Export//EN
BEGIN:VEVENT
SUMMARY:Cardinal Ornament
UID:9937
DTSTAMP:20260420T104000Z
DTSTART:20260820T233000Z
DTEND:20260821T003000Z
LOCATION:Midlothian Public Library, 14701 S. Kenton Ave, Midlothian, IL 60
 445, United States
ROOM: Studio 147
DESCRIPTION:Continuing our celebration of the United States’ 250th Birth
 day. This cardinal craft is from Colonial Williamsburg folk art collection
  and recognizes our state bird. Sewing is required. Registration suggested
 ; limit 12.  
URL:https://midlothian.librarycalendar.com/event/cardinal-ornament-9937
END:VEVENT
END:VCALENDAR
