BEGIN:VCALENDAR
VERSION:2.0
PRODID:-//Library Market//iCal Export//EN
BEGIN:VEVENT
SUMMARY:Craft Supply Swap / Intercambio de artesanías
UID:9935
DTSTAMP:20260420T104000Z
DTSTART:20260725T150000Z
DTEND:20260725T160000Z
LOCATION:Midlothian Public Library, 14701 S. Kenton Ave, Midlothian, IL 60
 445, United States
ROOM: Commons Area
DESCRIPTION:10:00 - 11:00 am Ticketed Entry for Donors. Have craft supplie
 s you no longer need? Looking for some new supplies for a project? Come to
  the library’s Craft Supply Swap! All items are FREE. You do not have to
  donate to attend, but donators will receive a ticket for early entry.  
 Donations will be accepted starting Monday, July 20  – Thursday, July 2
 3We will not accept donations at any other time. Two box limit.Label if it
 ems from a home with pets.Suggested items:Fabric, sewing/embroidery thread
  and notionsPaper crafting/scrapbooking/rubber stampsCraft kit, craft inst
 ruction booksChildren&#039;s craft kits and suppliesJewelry making supplie
 sYarn, hooks, needlesand more!Please make sure items are sorted and packag
 ed for easy display and distribution. We will not accept old magazines/boo
 ks, cut or torn paper, capless markers or open bottles of paint or glue. P
 lease make sure nothing ins sticky, smelly, or wet.All leftover supplies w
 ill be used by the library for programs, donated to charity, recycled or d
 iscarded. 10 a 11 am Entrada con boleto para donantes,  ¿Tiene suminis
 tros de manualidades que ya no necesite? ¿Busca algunos suministros nuevo
 s para un proyecto? ¡Ven al intercambio de suministros de artesanía de l
 a biblioteca! Todos los artículos son gratuitos. No tiene que donar para 
 asistir, pero los donantes recibirán un boleto para la entrada temprana. 
   Las donaciones serán aceptadas el lunes 20 de julio al jueves 23 de j
 ulio. Para obtener más información, consulte el calendario de la bibliot
 eca en línea. No aceptaremos donaciones en ningún otro momento. Límites
  de dos cajas. Etiqueta si los artículos de una casa con mascotas. 
URL:https://midlothian.librarycalendar.com/event/craft-supply-swap-tickete
 d-entry-9935
END:VEVENT
END:VCALENDAR
