BEGIN:VCALENDAR
VERSION:2.0
PRODID:-//Library Market//iCal Export//EN
BEGIN:VEVENT
SUMMARY:Stars &amp; Strips Sign
UID:9934
DTSTAMP:20260420T104000Z
DTSTART:20260723T233000Z
DTEND:20260724T003000Z
LOCATION:Midlothian Public Library, 14701 S. Kenton Ave, Midlothian, IL 60
 445, United States
ROOM: Studio 147
DESCRIPTION:Celebrate the United States’ 250th Birthday with you own Ame
 rican flag art piece. Registration suggested; limit 12.  Registration st
 arts July1. 
URL:https://midlothian.librarycalendar.com/event/stars-strips-sign-9934
END:VEVENT
END:VCALENDAR
