BEGIN:VCALENDAR
VERSION:2.0
PRODID:-//Library Market//iCal Export//EN
BEGIN:VEVENT
SUMMARY:Air-Dry Clay Ring Dish
UID:9932
DTSTAMP:20260420T104000Z
DTSTART:20260625T233000Z
DTEND:20260626T003000Z
LOCATION:Midlothian Public Library, 14701 S. Kenton Ave, Midlothian, IL 60
 445, United States
ROOM: Studio 147
DESCRIPTION:Create a dish with a tropical or prehistoric flair. Registrati
 on suggested; limit 12.  Registration starts June 1. 
URL:https://midlothian.librarycalendar.com/event/air-dry-clay-ring-dish-99
 32
END:VEVENT
END:VCALENDAR
