BEGIN:VCALENDAR
VERSION:2.0
PRODID:-//Library Market//iCal Export//EN
BEGIN:VEVENT
SUMMARY:Family BINGO
UID:9931
DTSTAMP:20260420T104000Z
DTSTART:20260824T150000Z
DTEND:20260824T160000Z
LOCATION:Midlothian Public Library, 14701 S. Kenton Ave, Midlothian, IL 60
 445, United States
ROOM: Meeting Room
DESCRIPTION:Enjoy BINGO! Small prizes will be available. All ages are welc
 ome.  
URL:https://midlothian.librarycalendar.com/event/family-bingo-9931
END:VEVENT
END:VCALENDAR
