BEGIN:VCALENDAR
VERSION:2.0
PRODID:-//Library Market//iCal Export//EN
BEGIN:VEVENT
SUMMARY:Community Coloring Table
UID:10015
DTSTAMP:20260423T001500Z
DTSTART:20260801T050000Z
DTEND:20260831T050000Z
LOCATION:Midlothian Public Library, 14701 S. Kenton Ave, Midlothian, IL 60
 445, United States
ROOM: Community Coloring Table
DESCRIPTION:As school starts back up, throw it back to the first day basic
 s. Stop by the Teen Space to relax with coloring pages and sticker books. 
 Available all month long.
URL:https://midlothian.librarycalendar.com/event/community-coloring-table-
 10015
END:VEVENT
END:VCALENDAR
