BEGIN:VCALENDAR
VERSION:2.0
PRODID:-//Library Market//iCal Export//EN
BEGIN:VEVENT
SUMMARY:Summer Friends Keychains
UID:10014
DTSTAMP:20260423T001500Z
DTSTART:20260701T050000Z
DTEND:20260731T050000Z
LOCATION:Midlothian Public Library, 14701 S. Kenton Ave, Midlothian, IL 60
 445, United States
ROOM: Summer Friends Keychains
DESCRIPTION:Take your favorite summer animals on the go by creating beaded
  keychains in the style of the viral ‘90s beaded lizard keychain. Availa
 ble all month long in the Teen Space.
URL:https://midlothian.librarycalendar.com/event/summer-friends-keychains-
 10014
END:VEVENT
END:VCALENDAR
