BEGIN:VCALENDAR
VERSION:2.0
PRODID:-//Library Market//iCal Export//EN
BEGIN:VEVENT
SUMMARY:Capy It&#039;s Summer Puzzle Table
UID:10013
DTSTAMP:20260423T001500Z
DTSTART:20260601T050000Z
DTEND:20260630T050000Z
LOCATION:Midlothian Public Library, 14701 S. Kenton Ave, Midlothian, IL 60
 445, United States
ROOM: Capy It&#039;s Summer Puzzle Table
DESCRIPTION:Kick off summer with capybaras! Stop by the tables in the Teen
  Space to work on Mudpuppy’s 500pc “Capybara Pool Day” puzzle. Avail
 able all month long.
URL:https://midlothian.librarycalendar.com/event/capy-its-summer-puzzle-ta
 ble-10013
END:VEVENT
END:VCALENDAR
